BEGIN:VCALENDAR
VERSION:2.0
PRODID:-//Berkeley Springs Pride - ECPv6.15.20//NONSGML v1.0//EN
CALSCALE:GREGORIAN
METHOD:PUBLISH
X-WR-CALNAME:Berkeley Springs Pride
X-ORIGINAL-URL:https://berkeleyspringspride.org
X-WR-CALDESC:Events for Berkeley Springs Pride
REFRESH-INTERVAL;VALUE=DURATION:PT1H
X-Robots-Tag:noindex
X-PUBLISHED-TTL:PT1H
BEGIN:VTIMEZONE
TZID:America/New_York
BEGIN:DAYLIGHT
TZOFFSETFROM:-0500
TZOFFSETTO:-0400
TZNAME:EDT
DTSTART:20240310T070000
END:DAYLIGHT
BEGIN:STANDARD
TZOFFSETFROM:-0400
TZOFFSETTO:-0500
TZNAME:EST
DTSTART:20241103T060000
END:STANDARD
BEGIN:DAYLIGHT
TZOFFSETFROM:-0500
TZOFFSETTO:-0400
TZNAME:EDT
DTSTART:20250309T070000
END:DAYLIGHT
BEGIN:STANDARD
TZOFFSETFROM:-0400
TZOFFSETTO:-0500
TZNAME:EST
DTSTART:20251102T060000
END:STANDARD
BEGIN:DAYLIGHT
TZOFFSETFROM:-0500
TZOFFSETTO:-0400
TZNAME:EDT
DTSTART:20260308T070000
END:DAYLIGHT
BEGIN:STANDARD
TZOFFSETFROM:-0400
TZOFFSETTO:-0500
TZNAME:EST
DTSTART:20261101T060000
END:STANDARD
END:VTIMEZONE
BEGIN:VEVENT
DTSTART;TZID=America/New_York:20250208T190000
DTEND;TZID=America/New_York:20250208T220000
DTSTAMP:20260424T121147
CREATED:20250129T030348Z
LAST-MODIFIED:20250129T031527Z
UID:391-1739041200-1739052000@berkeleyspringspride.org
SUMMARY:Under the Stars Youth Gala
DESCRIPTION:A FREE event planned by the Berkeley Springs Pride teen committee for all teens 8th grade and up! This year’s theme is Under the Stars ✨ \n\n\nPre-register and be entered in the raffle with great prizes 🎁 Pre-register here!\nBring your Berkeley Springs Pride water bottle and get an additional entry into the raffle 🎟️\nPrizes for Best Dressed\, Best Vibe\, Best Dancer\, and Best Dressed to Theme! 🏆\nNo dress code\, come in your most glam to your cutest casual 👗👖👔👕\n\nQuestions? Contact us: berkeleyspringspride@gmail.com
URL:https://berkeleyspringspride.org/event/under-the-stars-youth-gala/
LOCATION:MAC Ice House\, 138 Independence St\, Berkeley Springs\, WV\, 25411\, United States
ATTACH;FMTTYPE=image/jpeg:https://berkeleyspringspride.org/wp-content/uploads/2025/01/Under-the-Stars-Gala-2025.jpg
END:VEVENT
BEGIN:VEVENT
DTSTART;TZID=America/New_York:20250214T180000
DTEND;TZID=America/New_York:20250214T210000
DTSTAMP:20260424T121147
CREATED:20250129T032821Z
LAST-MODIFIED:20250129T032821Z
UID:397-1739556000-1739566800@berkeleyspringspride.org
SUMMARY:Free Fab Friday
DESCRIPTION:A free monthly hang out for teens 12 and up. Hang out with friends\, make art\, and eat food!
URL:https://berkeleyspringspride.org/event/free-fab-friday/
LOCATION:MAC Ice House\, 138 Independence St\, Berkeley Springs\, WV\, 25411\, United States
ATTACH;FMTTYPE=image/jpeg:https://berkeleyspringspride.org/wp-content/uploads/2025/01/Fab-Friday-2025-Winter.jpg
END:VEVENT
END:VCALENDAR