BEGIN:VCALENDAR
VERSION:2.0
PRODID:-//Berkeley Springs Pride - ECPv6.15.20//NONSGML v1.0//EN
CALSCALE:GREGORIAN
METHOD:PUBLISH
X-WR-CALNAME:Berkeley Springs Pride
X-ORIGINAL-URL:https://berkeleyspringspride.org
X-WR-CALDESC:Events for Berkeley Springs Pride
REFRESH-INTERVAL;VALUE=DURATION:PT1H
X-Robots-Tag:noindex
X-PUBLISHED-TTL:PT1H
BEGIN:VTIMEZONE
TZID:America/New_York
BEGIN:DAYLIGHT
TZOFFSETFROM:-0500
TZOFFSETTO:-0400
TZNAME:EDT
DTSTART:20210314T070000
END:DAYLIGHT
BEGIN:STANDARD
TZOFFSETFROM:-0400
TZOFFSETTO:-0500
TZNAME:EST
DTSTART:20211107T060000
END:STANDARD
BEGIN:DAYLIGHT
TZOFFSETFROM:-0500
TZOFFSETTO:-0400
TZNAME:EDT
DTSTART:20220313T070000
END:DAYLIGHT
BEGIN:STANDARD
TZOFFSETFROM:-0400
TZOFFSETTO:-0500
TZNAME:EST
DTSTART:20221106T060000
END:STANDARD
BEGIN:DAYLIGHT
TZOFFSETFROM:-0500
TZOFFSETTO:-0400
TZNAME:EDT
DTSTART:20230312T070000
END:DAYLIGHT
BEGIN:STANDARD
TZOFFSETFROM:-0400
TZOFFSETTO:-0500
TZNAME:EST
DTSTART:20231105T060000
END:STANDARD
BEGIN:DAYLIGHT
TZOFFSETFROM:-0500
TZOFFSETTO:-0400
TZNAME:EDT
DTSTART:20240310T070000
END:DAYLIGHT
BEGIN:STANDARD
TZOFFSETFROM:-0400
TZOFFSETTO:-0500
TZNAME:EST
DTSTART:20241103T060000
END:STANDARD
END:VTIMEZONE
BEGIN:VEVENT
DTSTART;TZID=America/New_York:20230624T110000
DTEND;TZID=America/New_York:20230624T160000
DTSTAMP:20260424T121337
CREATED:20230517T194802Z
LAST-MODIFIED:20230521T231540Z
UID:158-1687604400-1687622400@berkeleyspringspride.org
SUMMARY:Pride in the Park
DESCRIPTION:A day of family fun. Bring your own picnic basket or enjoy food from one of the food trucks. Stroll through the park and visit our vendor booths\, or just relax\, bring a lawn chair\, or blanket an enjoy the music of Matt Otis and the Sound. It’s a day of family fun\, and support of our diverse community.
URL:https://berkeleyspringspride.org/event/pride-in-the-park/
LOCATION:Berkeley Springs State Park\, 2 S Washington St\, Berkeley Springs\, WV\, 25411\, United States
CATEGORIES:Pride Picnic
ATTACH;FMTTYPE=image/png:https://berkeleyspringspride.org/wp-content/uploads/2023/05/Pride-Picnic-2023.png
END:VEVENT
BEGIN:VEVENT
DTSTART;TZID=America/New_York:20230325T180000
DTEND;TZID=America/New_York:20230325T220000
DTSTAMP:20260424T121337
CREATED:20230113T185136Z
LAST-MODIFIED:20230519T181510Z
UID:9-1679767200-1679781600@berkeleyspringspride.org
SUMMARY:Fire & Ice Gala
DESCRIPTION:Tickets on Sale January 15\, 2023\nPre-Sale December 15\, 2022\nWalk the red carpet at Berkeley Springs’s biggest night in fashion! The Fire & Ice Gala invites you to bring your best look and dance the night away while raising money that will go directly back into the local community! Join us for hors d’oeuvres\, dancing\, auctions\, raffles\, and more! \nDress to theme encouraged\, best dressed prize. \nThe Fire & Ice Gala is a fundraiser in support of Berkeley Springs Pride’s community initiatives. Berkeley Springs Pride dedicates its efforts to giving back to the community and advocating for love and equality.
URL:https://berkeleyspringspride.org/event/fire-ice-gala/
CATEGORIES:Gala
ATTACH;FMTTYPE=image/jpeg:https://berkeleyspringspride.org/wp-content/uploads/2023/05/315558533_685352846368931_9176390940754747972_n.jpg
END:VEVENT
BEGIN:VEVENT
DTSTART;TZID=America/New_York:20220911T110000
DTEND;TZID=America/New_York:20220911T150000
DTSTAMP:20260424T121337
CREATED:20230113T234344Z
LAST-MODIFIED:20230519T181451Z
UID:5-1662894000-1662908400@berkeleyspringspride.org
SUMMARY:Bippity Boppity Brunch
DESCRIPTION:Berkeley Springs Pride is proud to present a Bippity Boppity Brunch. Come join us for a day of Princesses\, Villians\, and cartoon fun done by some of the areas brightest stars. Ticket price includes the show and a brunch buffet. Cash Bar onsite. Other activities include a silent auction\, blind wine auction\, 50/50 raffles\, and photo ops with the queens. \nCast for the day- Shirley Goodness & Mercy\, Dezi Minaj\, Madison St. Lawrence\, Cherry Falwell and Stephanie Michaels. DJ and music by Tracy Popkins. \nTickets on sale now for $35!! \nAll ages welcome. \nDoors open at 11\, brunch 11:45 and show starts around 12:30
URL:https://berkeleyspringspride.org/event/bippity-boppity-brunch/
CATEGORIES:Drag Brunch
ATTACH;FMTTYPE=image/jpeg:https://berkeleyspringspride.org/wp-content/uploads/2023/05/291893074_592508305653386_7093894198025248896_n.jpg
END:VEVENT
END:VCALENDAR