BEGIN:VCALENDAR
VERSION:2.0
PRODID:-//Berkeley Springs Pride - ECPv6.15.20//NONSGML v1.0//EN
CALSCALE:GREGORIAN
METHOD:PUBLISH
X-WR-CALNAME:Berkeley Springs Pride
X-ORIGINAL-URL:https://berkeleyspringspride.org
X-WR-CALDESC:Events for Berkeley Springs Pride
REFRESH-INTERVAL;VALUE=DURATION:PT1H
X-Robots-Tag:noindex
X-PUBLISHED-TTL:PT1H
BEGIN:VTIMEZONE
TZID:America/New_York
BEGIN:DAYLIGHT
TZOFFSETFROM:-0500
TZOFFSETTO:-0400
TZNAME:EDT
DTSTART:20250309T070000
END:DAYLIGHT
BEGIN:STANDARD
TZOFFSETFROM:-0400
TZOFFSETTO:-0500
TZNAME:EST
DTSTART:20251102T060000
END:STANDARD
BEGIN:DAYLIGHT
TZOFFSETFROM:-0500
TZOFFSETTO:-0400
TZNAME:EDT
DTSTART:20260308T070000
END:DAYLIGHT
BEGIN:STANDARD
TZOFFSETFROM:-0400
TZOFFSETTO:-0500
TZNAME:EST
DTSTART:20261101T060000
END:STANDARD
BEGIN:DAYLIGHT
TZOFFSETFROM:-0500
TZOFFSETTO:-0400
TZNAME:EDT
DTSTART:20270314T070000
END:DAYLIGHT
BEGIN:STANDARD
TZOFFSETFROM:-0400
TZOFFSETTO:-0500
TZNAME:EST
DTSTART:20271107T060000
END:STANDARD
END:VTIMEZONE
BEGIN:VEVENT
DTSTART;TZID=America/New_York:20260109T183000
DTEND;TZID=America/New_York:20260109T210000
DTSTAMP:20260423T191629
CREATED:20260103T045836Z
LAST-MODIFIED:20260103T045836Z
UID:431-1767983400-1767992400@berkeleyspringspride.org
SUMMARY:Fab Friday @ the Well
DESCRIPTION:A free monthly hang out for teens 6th grade and up. This month at Morgan County Wellness Center hang out with friends\, play games\, and eat food!
URL:https://berkeleyspringspride.org/event/fab-friday-the-well/
LOCATION:Morgan County Wellness Center\, 23 Fitness Ln\, Berkeley Springs\, WV\, 25411\, United States
ATTACH;FMTTYPE=image/png:https://berkeleyspringspride.org/wp-content/uploads/2026/01/Screenshot-2026-01-02-at-11.52.07-PM.png
END:VEVENT
BEGIN:VEVENT
DTSTART;TZID=America/New_York:20260213T190000
DTEND;TZID=America/New_York:20260213T220000
DTSTAMP:20260423T191629
CREATED:20260103T052944Z
LAST-MODIFIED:20260131T024652Z
UID:444-1771009200-1771020000@berkeleyspringspride.org
SUMMARY:Decades Youth Gala
DESCRIPTION:Decades Youth Gala\nJoin us on February 13th\, 2026 from 7pm-10pm at the MAC Ice House for a FREE Decades Youth Gala\, planned by the Berkeley Springs Pride Teen Committee and open to all teens 8th grade and up. Travel through the 70s\, 80s\, 90s\, and 2000s with music\, dancing\, and food in a fun\, safe\, and affirming space. \nNo dress code—come decked out in full disco glam\, Y2K sparkle\, or your favorite comfy-cute fit. \nPre-register to be entered into the raffle with awesome prizes. Pre-register here! \nAwards will be given for Best Dressed\, Best Dressed to Theme\, Best Dancer\, and Best Vibe. \nQuestions? Contact us at berkeleyspringspride@gmail.com.
URL:https://berkeleyspringspride.org/event/decades-youth-gala/
LOCATION:MAC Ice House\, 138 Independence St\, Berkeley Springs\, WV\, 25411\, United States
ATTACH;FMTTYPE=image/jpeg:https://berkeleyspringspride.org/wp-content/uploads/2026/01/Decades-Gala-1-scaled.jpg
END:VEVENT
BEGIN:VEVENT
DTSTART;TZID=America/New_York:20260219T173000
DTEND;TZID=America/New_York:20260219T200000
DTSTAMP:20260423T191629
CREATED:20260206T035921Z
LAST-MODIFIED:20260206T040016Z
UID:460-1771522200-1771531200@berkeleyspringspride.org
SUMMARY:Cold Snap Happy Hour
DESCRIPTION:Beat those winter blues and cold fingers and join us for a hot evening of fun and frivolity with friends. We are so pleased to join Cacapon Mountain Brewing in welcoming you all to stop by.
URL:https://berkeleyspringspride.org/event/cold-snap-happy-hour/
LOCATION:Cacapon Mountain Brewery\, 42 Williams St\, Berkeley Springs\, WV\, 25411\, United States
ATTACH;FMTTYPE=image/jpeg:https://berkeleyspringspride.org/wp-content/uploads/2026/02/616457888_1163146756031872_6539544686806589569_n.jpg
END:VEVENT
BEGIN:VEVENT
DTSTART;TZID=America/New_York:20260313T180000
DTEND;TZID=America/New_York:20260313T200000
DTSTAMP:20260423T191629
CREATED:20260103T050014Z
LAST-MODIFIED:20260131T024210Z
UID:436-1773424800-1773432000@berkeleyspringspride.org
SUMMARY:Free Fab Friday
DESCRIPTION:A free monthly hang out for teens 12 and up. Hang out with friends\, make art\, and eat food!
URL:https://berkeleyspringspride.org/event/free-fab-friday-3/
LOCATION:MAC Ice House\, 138 Independence St\, Berkeley Springs\, WV\, 25411\, United States
ATTACH;FMTTYPE=image/jpeg:https://berkeleyspringspride.org/wp-content/uploads/2026/01/Fab-Fridays-Winter-26.jpg
END:VEVENT
BEGIN:VEVENT
DTSTART;TZID=America/New_York:20260321T180000
DTEND;TZID=America/New_York:20260321T220000
DTSTAMP:20260423T191629
CREATED:20260103T045012Z
LAST-MODIFIED:20260103T045012Z
UID:424-1774116000-1774130400@berkeleyspringspride.org
SUMMARY:Under the Sea Gala: Dancing in the Waves
DESCRIPTION:Berkeley Springs Pride cordially invites you to our 4th annual charity gala. Get ready for an unforgettable night Under the Sea! Dive into a world of fun and elegance as we dance the waves away for a great cause. This in-person gala promises an evening full of laughter\, music\, and good vibes. Don your best ocean-inspired attire and join us for a splashin’ good time supporting our initiatives. Let’s make waves together.\nTickets available on Eventbrite: Get your tickets here!
URL:https://berkeleyspringspride.org/event/under-the-sea-gala-dancing-in-the-waves/
LOCATION:The Country Inn of Berkeley Springs\, 110 S Washington St\, Berkeley Springs\, WV\, 25411\, United States
ATTACH;FMTTYPE=image/jpeg:https://berkeleyspringspride.org/wp-content/uploads/2026/01/Under-the-Sea-8.5x11.jpg
END:VEVENT
BEGIN:VEVENT
DTSTART;TZID=America/New_York:20260410T180000
DTEND;TZID=America/New_York:20260410T200000
DTSTAMP:20260423T191629
CREATED:20260103T050142Z
LAST-MODIFIED:20260131T024151Z
UID:440-1775844000-1775851200@berkeleyspringspride.org
SUMMARY:Free Fab Friday
DESCRIPTION:A free monthly hang out for teens 12 and up. Hang out with friends\, make art\, and eat food!
URL:https://berkeleyspringspride.org/event/free-fab-friday-4/
LOCATION:MAC Ice House\, 138 Independence St\, Berkeley Springs\, WV\, 25411\, United States
ATTACH;FMTTYPE=image/jpeg:https://berkeleyspringspride.org/wp-content/uploads/2026/01/Fab-Fridays-Winter-26.jpg
END:VEVENT
BEGIN:VEVENT
DTSTART;TZID=America/New_York:20260627T110000
DTEND;TZID=America/New_York:20260627T160000
DTSTAMP:20260423T191629
CREATED:20260210T125523Z
LAST-MODIFIED:20260210T125523Z
UID:466-1782558000-1782576000@berkeleyspringspride.org
SUMMARY:Pride Picnic in the Park 2026
DESCRIPTION:Save the date for Berkeley Springs Pride’s 6th Annual Pride Picnic in the Park! \nLive music\, vendors\, community resources\, games\, and more!
URL:https://berkeleyspringspride.org/event/pride-picnic-in-the-park-2026/
LOCATION:Berkeley Springs State Park\, 2 S Washington St\, Berkeley Springs\, WV\, 25411\, United States
ATTACH;FMTTYPE=image/jpeg:https://berkeleyspringspride.org/wp-content/uploads/2026/02/StD-Picnic-in-the-Park-2025.jpg
END:VEVENT
END:VCALENDAR