BEGIN:VCALENDAR
VERSION:2.0
PRODID:-//Berkeley Springs Pride - ECPv6.15.20//NONSGML v1.0//EN
CALSCALE:GREGORIAN
METHOD:PUBLISH
X-WR-CALNAME:Berkeley Springs Pride
X-ORIGINAL-URL:https://berkeleyspringspride.org
X-WR-CALDESC:Events for Berkeley Springs Pride
REFRESH-INTERVAL;VALUE=DURATION:PT1H
X-Robots-Tag:noindex
X-PUBLISHED-TTL:PT1H
BEGIN:VTIMEZONE
TZID:America/New_York
BEGIN:DAYLIGHT
TZOFFSETFROM:-0500
TZOFFSETTO:-0400
TZNAME:EDT
DTSTART:20220313T070000
END:DAYLIGHT
BEGIN:STANDARD
TZOFFSETFROM:-0400
TZOFFSETTO:-0500
TZNAME:EST
DTSTART:20221106T060000
END:STANDARD
BEGIN:DAYLIGHT
TZOFFSETFROM:-0500
TZOFFSETTO:-0400
TZNAME:EDT
DTSTART:20230312T070000
END:DAYLIGHT
BEGIN:STANDARD
TZOFFSETFROM:-0400
TZOFFSETTO:-0500
TZNAME:EST
DTSTART:20231105T060000
END:STANDARD
BEGIN:DAYLIGHT
TZOFFSETFROM:-0500
TZOFFSETTO:-0400
TZNAME:EDT
DTSTART:20240310T070000
END:DAYLIGHT
BEGIN:STANDARD
TZOFFSETFROM:-0400
TZOFFSETTO:-0500
TZNAME:EST
DTSTART:20241103T060000
END:STANDARD
BEGIN:DAYLIGHT
TZOFFSETFROM:-0500
TZOFFSETTO:-0400
TZNAME:EDT
DTSTART:20250309T070000
END:DAYLIGHT
BEGIN:STANDARD
TZOFFSETFROM:-0400
TZOFFSETTO:-0500
TZNAME:EST
DTSTART:20251102T060000
END:STANDARD
BEGIN:DAYLIGHT
TZOFFSETFROM:-0500
TZOFFSETTO:-0400
TZNAME:EDT
DTSTART:20260308T070000
END:DAYLIGHT
BEGIN:STANDARD
TZOFFSETFROM:-0400
TZOFFSETTO:-0500
TZNAME:EST
DTSTART:20261101T060000
END:STANDARD
END:VTIMEZONE
BEGIN:VEVENT
DTSTART;TZID=America/New_York:20250322T180000
DTEND;TZID=America/New_York:20250322T220000
DTSTAMP:20260423T175155
CREATED:20250102T224034Z
LAST-MODIFIED:20250102T224734Z
UID:384-1742666400-1742680800@berkeleyspringspride.org
SUMMARY:Carnivale of Colours Charity Gala
DESCRIPTION:The jazz filled streets of New Orleans during Mardi Gras\, a Masquerade Ball in Venice\, Diwali and Holi in India\, Carnival in Rio\, or the Festival of Flowers in Columbia—Berkeley Springs Pride would like to present its 3rd Annual Charity Gala “Carnivale of Colours”. Pick a color and go wild with you monochrome outfit and dress to impress\, prizes for best dressed. Festival food from around the globe. Dancing\, silent auction\, raffles\, and tons of fun.\n\nTickets available on Eventbrite now!\n\nMonies raised go towards the Berkeley Springs Pride Scholarship Fund which awards funds each year in partnership with the Morgan Student Aid Fund to BSHS seniors. In addition this fund is also used for others seeking higher education in trade schools or adult learning and sending teens to leadership summer camps.
URL:https://berkeleyspringspride.org/event/carnivale-of-colours-charity-gala/
LOCATION:The Country Inn of Berkeley Springs\, 110 S Washington St\, Berkeley Springs\, WV\, 25411\, United States
CATEGORIES:Gala
ATTACH;FMTTYPE=image/jpeg:https://berkeleyspringspride.org/wp-content/uploads/2025/01/BSPride-Gala-2025-Facebook-Cover.jpg
END:VEVENT
BEGIN:VEVENT
DTSTART;TZID=America/New_York:20240323T180000
DTEND;TZID=America/New_York:20240323T233000
DTSTAMP:20260423T175155
CREATED:20231109T130943Z
LAST-MODIFIED:20231230T181422Z
UID:261-1711216800-1711236600@berkeleyspringspride.org
SUMMARY:Denim & Diamonds Gala
DESCRIPTION:Tickets on sale January 1\, 2024 \nBerkeley Springs Pride is thrilled to announce our second annual fundraising gala! This year’s theme\, “Denim and Diamonds\,” calls for you to unleash your creative flair and bedazzle that denim attire. Join us once more for an evening of fashion and dancing\, all while helping raise funds that go directly back to supporting the local community. There’ll be live music\, a spread of finger-licking BBQ\, auctions\, raffles\, and more! \nShow off your creativity and dress to theme for a chance to win the “Best Dressed” prize. Last year’s gala sold out\, so don’t wait to get your tickets! \n\nWe can’t wait to see you there!\n\nBuy Tickets
URL:https://berkeleyspringspride.org/event/denim-diamonds-gala/
LOCATION:The Country Inn of Berkeley Springs\, 110 S Washington St\, Berkeley Springs\, WV\, 25411\, United States
CATEGORIES:Gala
ATTACH;FMTTYPE=image/jpeg:https://berkeleyspringspride.org/wp-content/uploads/2023/11/Gala_24-Logo-w-Date.jpg
END:VEVENT
BEGIN:VEVENT
DTSTART;TZID=America/New_York:20240224T190000
DTEND;TZID=America/New_York:20240224T220000
DTSTAMP:20260423T175155
CREATED:20240110T214058Z
LAST-MODIFIED:20240112T033402Z
UID:275-1708801200-1708812000@berkeleyspringspride.org
SUMMARY:Love is Love Youth Gala
DESCRIPTION:Love is Love Youth Gala\nFeb 24\, 2024 – 7p-10p\nVenue: Berkeley Springs High School\n🌈 Love is Love Youth Gala: Come As You Are! 🌈 \n\nRegister\n\nBerkeley Springs Pride invites all 8th graders and over to join us for an unforgettable night of fun and unity at the “Love is Love” Youth Gala! \nEnjoy an evening filled with music\, dancing\, and socializing with your friends and peers. Snacks\, beverages\, games\, and a few surprises will be waiting for you once you cross the red carpet. \nDress in your fanciest attire or keep it casual and comfy— the choice is yours. Embrace the “Come as you are” spirit and let your unique style shine! Be sure to showcase your individuality for a chance to win one of the coveted Best Dressed Awards. \nBeat the rush at the door and pre-register now! Click the button below to streamline your entry to this fantastic event. \nLet’s make the Love is Love Youth Gala an evening to remember. Come as you are and celebrate the diversity and unity that make our community shine! \n\nRegister
URL:https://berkeleyspringspride.org/event/love-is-love-youth-gala/
LOCATION:Berkeley Springs High School\, 149 Concord Ave\, Berkeley Springs\, WV\, 25411\, United States
CATEGORIES:Gala
END:VEVENT
BEGIN:VEVENT
DTSTART;TZID=America/New_York:20230325T180000
DTEND;TZID=America/New_York:20230325T220000
DTSTAMP:20260423T175155
CREATED:20230113T185136Z
LAST-MODIFIED:20230519T181510Z
UID:9-1679767200-1679781600@berkeleyspringspride.org
SUMMARY:Fire & Ice Gala
DESCRIPTION:Tickets on Sale January 15\, 2023\nPre-Sale December 15\, 2022\nWalk the red carpet at Berkeley Springs’s biggest night in fashion! The Fire & Ice Gala invites you to bring your best look and dance the night away while raising money that will go directly back into the local community! Join us for hors d’oeuvres\, dancing\, auctions\, raffles\, and more! \nDress to theme encouraged\, best dressed prize. \nThe Fire & Ice Gala is a fundraiser in support of Berkeley Springs Pride’s community initiatives. Berkeley Springs Pride dedicates its efforts to giving back to the community and advocating for love and equality.
URL:https://berkeleyspringspride.org/event/fire-ice-gala/
CATEGORIES:Gala
ATTACH;FMTTYPE=image/jpeg:https://berkeleyspringspride.org/wp-content/uploads/2023/05/315558533_685352846368931_9176390940754747972_n.jpg
END:VEVENT
END:VCALENDAR