BEGIN:VCALENDAR
VERSION:2.0
PRODID:-//Berkeley Springs Pride - ECPv6.15.20//NONSGML v1.0//EN
CALSCALE:GREGORIAN
METHOD:PUBLISH
X-WR-CALNAME:Berkeley Springs Pride
X-ORIGINAL-URL:https://berkeleyspringspride.org
X-WR-CALDESC:Events for Berkeley Springs Pride
REFRESH-INTERVAL;VALUE=DURATION:PT1H
X-Robots-Tag:noindex
X-PUBLISHED-TTL:PT1H
BEGIN:VTIMEZONE
TZID:America/New_York
BEGIN:DAYLIGHT
TZOFFSETFROM:-0500
TZOFFSETTO:-0400
TZNAME:EDT
DTSTART:20240310T070000
END:DAYLIGHT
BEGIN:STANDARD
TZOFFSETFROM:-0400
TZOFFSETTO:-0500
TZNAME:EST
DTSTART:20241103T060000
END:STANDARD
BEGIN:DAYLIGHT
TZOFFSETFROM:-0500
TZOFFSETTO:-0400
TZNAME:EDT
DTSTART:20250309T070000
END:DAYLIGHT
BEGIN:STANDARD
TZOFFSETFROM:-0400
TZOFFSETTO:-0500
TZNAME:EST
DTSTART:20251102T060000
END:STANDARD
BEGIN:DAYLIGHT
TZOFFSETFROM:-0500
TZOFFSETTO:-0400
TZNAME:EDT
DTSTART:20260308T070000
END:DAYLIGHT
BEGIN:STANDARD
TZOFFSETFROM:-0400
TZOFFSETTO:-0500
TZNAME:EST
DTSTART:20261101T060000
END:STANDARD
END:VTIMEZONE
BEGIN:VEVENT
DTSTART;TZID=America/New_York:20250609T184900
DTEND;TZID=America/New_York:20250620T184900
DTSTAMP:20260424T070039
CREATED:20250509T202636Z
LAST-MODIFIED:20250509T203728Z
UID:406-1749494940-1750445340@berkeleyspringspride.org
SUMMARY:12 Days of Pride Raffle
DESCRIPTION:12 Days of Pride – $10\,000 Cash Giveaway Raffle! Support Berkeley Springs Pride and win big!\nClick here to get your tickets now – Only $20 per ticket!\nEach ticket is eligible to win multiple times based on the WV Daily 3 numbers. Daily drawings run from June 9–20. Bring your tickets to Pride in the Park to be entered into a Second Chance Drawing on June 21! \nDaily Prizes:\nJune 9 (Day 1): $300June 10 (Day 2): $200June 11 (Day 3): $1\,500June 12 (Day 4): $300June 13 (Day 5): $200June 14 (Day 6): $1\,500June 15 (Day 7): $300June 16 (Day 8): $200June 17 (Day 9): $1\,500June 18 (Day 10): $300June 19 (Day 11): $200June 20 (Day 12): $2\,500Second Chance (June 21): $1\,000 \nBuy tickets in person at these local spots:\nBerkeley Springs Antique Mall (card/cash)The Country Inn – see Chef Scott (card/cash)Creekside Provisions (cash)MAC Ice House (cash)Mineral Springs Trading Company (cash)Pretty Little Addictions (cash – evening hours) \nQuestions? Email us at berkeleyspringspride@gmail.com.\nThanks for supporting Pride and good luck!
URL:https://berkeleyspringspride.org/event/12-days-of-pride-raffle/
LOCATION:WV
ATTACH;FMTTYPE=image/png:https://berkeleyspringspride.org/wp-content/uploads/2025/05/Screenshot-2025-05-09-at-4.25.58 PM.png
END:VEVENT
END:VCALENDAR